BEGIN:VCALENDAR
VERSION:2.0
PRODID:-//FEMPS - ECPv6.15.20//NONSGML v1.0//EN
CALSCALE:GREGORIAN
METHOD:PUBLISH
X-ORIGINAL-URL:https://www.femps.eu/it/
X-WR-CALDESC:Eventi per FEMPS
REFRESH-INTERVAL;VALUE=DURATION:PT1H
X-Robots-Tag:noindex
X-PUBLISHED-TTL:PT1H
BEGIN:VTIMEZONE
TZID:UTC
BEGIN:STANDARD
TZOFFSETFROM:+0000
TZOFFSETTO:+0000
TZNAME:UTC
DTSTART:20220101T000000
END:STANDARD
END:VTIMEZONE
BEGIN:VEVENT
DTSTART;VALUE=DATE:20240502
DTEND;VALUE=DATE:20240504
DTSTAMP:20260419T142517
CREATED:20231219T084020Z
LAST-MODIFIED:20231219T084023Z
UID:4432-1714608000-1714780799@www.femps.eu
SUMMARY:PROVA DI SICUREZZA Tignes
DESCRIPTION:
URL:https://www.femps.eu/it/event/prova-di-sicurezza-tignes-4/
LOCATION:Tignes\, Tignes\, France
CATEGORIES:CTT Sécurité
END:VEVENT
BEGIN:VEVENT
DTSTART;VALUE=DATE:20240418
DTEND;VALUE=DATE:20240420
DTSTAMP:20260419T142517
CREATED:20231219T084059Z
LAST-MODIFIED:20231219T084106Z
UID:4435-1713398400-1713571199@www.femps.eu
SUMMARY:PROVA DI SICUREZZA Chamonix
DESCRIPTION:
URL:https://www.femps.eu/it/event/prova-di-sicurezza-chamonix-7/
LOCATION:Chamonix\, Chamonix\, France
CATEGORIES:CTT Sécurité
END:VEVENT
BEGIN:VEVENT
DTSTART;VALUE=DATE:20240404
DTEND;VALUE=DATE:20240406
DTSTAMP:20260419T142517
CREATED:20231219T084739Z
LAST-MODIFIED:20231219T084747Z
UID:4439-1712188800-1712361599@www.femps.eu
SUMMARY:PROVA DI SICUREZZA Chamonix
DESCRIPTION:
URL:https://www.femps.eu/it/event/prova-di-sicurezza-chamonix-8/
LOCATION:Chamonix\, Chamonix\, France
CATEGORIES:CTT Sécurité
END:VEVENT
BEGIN:VEVENT
DTSTART;VALUE=DATE:20240404
DTEND;VALUE=DATE:20240406
DTSTAMP:20260419T142517
CREATED:20231219T084115Z
LAST-MODIFIED:20231219T084119Z
UID:4437-1712188800-1712361599@www.femps.eu
SUMMARY:PROVA DI SICUREZZA Tignes
DESCRIPTION:
URL:https://www.femps.eu/it/event/prova-di-sicurezza-tignes-5/
LOCATION:Tignes\, Tignes\, France
CATEGORIES:CTT Sécurité
END:VEVENT
BEGIN:VEVENT
DTSTART;VALUE=DATE:20240325
DTEND;VALUE=DATE:20240327
DTSTAMP:20260419T142517
CREATED:20231219T084943Z
LAST-MODIFIED:20231219T084943Z
UID:4442-1711324800-1711497599@www.femps.eu
SUMMARY:Prova si sicurezza Vogel
DESCRIPTION:
URL:https://www.femps.eu/it/event/prova-si-sicurezza-vogel/
LOCATION:Vogel\, Vogel\, Slovénie
CATEGORIES:CTT Sécurité
END:VEVENT
BEGIN:VEVENT
DTSTART;VALUE=DATE:20240321
DTEND;VALUE=DATE:20240323
DTSTAMP:20260419T142517
CREATED:20231219T085016Z
LAST-MODIFIED:20231219T085016Z
UID:4445-1710979200-1711151999@www.femps.eu
SUMMARY:PROVA DI SICUREZZA Chamonix
DESCRIPTION:
URL:https://www.femps.eu/it/event/prova-di-sicurezza-chamonix-9/
LOCATION:Chamonix\, Chamonix\, France
CATEGORIES:CTT Sécurité
END:VEVENT
BEGIN:VEVENT
DTSTART;VALUE=DATE:20240321
DTEND;VALUE=DATE:20240323
DTSTAMP:20260419T142517
CREATED:20231219T084959Z
LAST-MODIFIED:20231219T085002Z
UID:4443-1710979200-1711151999@www.femps.eu
SUMMARY:PROVA DI SICUREZZA Tignes
DESCRIPTION:
URL:https://www.femps.eu/it/event/prova-di-sicurezza-tignes-6/
LOCATION:Tignes\, Tignes\, France
CATEGORIES:CTT Sécurité
END:VEVENT
BEGIN:VEVENT
DTSTART;VALUE=DATE:20240315
DTEND;VALUE=DATE:20240318
DTSTAMP:20260419T142517
CREATED:20231219T085231Z
LAST-MODIFIED:20231219T085231Z
UID:4452-1710460800-1710719999@www.femps.eu
SUMMARY:Prova di Securizza Oberstdorf
DESCRIPTION:
URL:https://www.femps.eu/it/event/prova-di-securizza-oberstdorf/
LOCATION:Oberstdorf\, Oberstdorf\, Allemagne
CATEGORIES:CTT Sécurité
END:VEVENT
BEGIN:VEVENT
DTSTART;VALUE=DATE:20240215
DTEND;VALUE=DATE:20240217
DTSTAMP:20260419T142517
CREATED:20231219T085418Z
LAST-MODIFIED:20231219T085418Z
UID:4456-1707955200-1708127999@www.femps.eu
SUMMARY:PROVA DI SICUREZZA Chamonix
DESCRIPTION:
URL:https://www.femps.eu/it/event/prova-di-sicurezza-chamonix-10/
LOCATION:Chamonix\, Chamonix\, France
CATEGORIES:CTT Sécurité
END:VEVENT
BEGIN:VEVENT
DTSTART;VALUE=DATE:20240201
DTEND;VALUE=DATE:20240203
DTSTAMP:20260419T142517
CREATED:20231219T085530Z
LAST-MODIFIED:20231219T085530Z
UID:4460-1706745600-1706918399@www.femps.eu
SUMMARY:PROVA DI SICUREZZA Chamonix
DESCRIPTION:
URL:https://www.femps.eu/it/event/prova-di-sicurezza-chamonix-11/
LOCATION:Chamonix\, Chamonix\, France
CATEGORIES:CTT Sécurité
END:VEVENT
BEGIN:VEVENT
DTSTART;VALUE=DATE:20240201
DTEND;VALUE=DATE:20240203
DTSTAMP:20260419T142517
CREATED:20231219T085456Z
LAST-MODIFIED:20231219T085456Z
UID:4459-1706745600-1706918399@www.femps.eu
SUMMARY:Prova di Securizza Les Arcs
DESCRIPTION:
URL:https://www.femps.eu/it/event/prova-di-securizza-les-arcs/
LOCATION:Les Arcs\, Les Arcs\, France
CATEGORIES:CTT Sécurité
END:VEVENT
BEGIN:VEVENT
DTSTART;VALUE=DATE:20240118
DTEND;VALUE=DATE:20240120
DTSTAMP:20260419T142517
CREATED:20231219T085810Z
LAST-MODIFIED:20231219T085810Z
UID:4467-1705536000-1705708799@www.femps.eu
SUMMARY:PROVA DI SICUREZZA Chamonix
DESCRIPTION:
URL:https://www.femps.eu/it/event/prova-di-sicurezza-chamonix-12/
LOCATION:Chamonix\, Chamonix\, France
CATEGORIES:CTT Sécurité
END:VEVENT
BEGIN:VEVENT
DTSTART;VALUE=DATE:20240118
DTEND;VALUE=DATE:20240120
DTSTAMP:20260419T142517
CREATED:20231219T085809Z
LAST-MODIFIED:20231219T085809Z
UID:4466-1705536000-1705708799@www.femps.eu
SUMMARY:PROVA DI SICUREZZA Tignes
DESCRIPTION:
URL:https://www.femps.eu/it/event/prova-di-sicurezza-tignes-7/
LOCATION:Tignes\, Tignes\, France
CATEGORIES:CTT Sécurité
END:VEVENT
BEGIN:VEVENT
DTSTART;VALUE=DATE:20240113
DTEND;VALUE=DATE:20240115
DTSTAMP:20260419T142517
CREATED:20231219T085811Z
LAST-MODIFIED:20231219T085811Z
UID:4469-1705104000-1705276799@www.femps.eu
SUMMARY:Prova di Sicurezza St Christoph Am Arlberg
DESCRIPTION:
URL:https://www.femps.eu/it/event/prova-di-sicurezza-st-christoph-am-arlberg-2/
LOCATION:St Christoph\, St Christoph\, Autriche
CATEGORIES:CTT Sécurité
END:VEVENT
BEGIN:VEVENT
DTSTART;VALUE=DATE:20230525
DTEND;VALUE=DATE:20230527
DTSTAMP:20260419T142517
CREATED:20221219T122442Z
LAST-MODIFIED:20221219T122442Z
UID:3665-1684972800-1685145599@www.femps.eu
SUMMARY:PROVA DI SICUREZZA
DESCRIPTION:
URL:https://www.femps.eu/it/event/prova-di-sicurezza/
LOCATION:Tignes\, Tignes\, France
CATEGORIES:CTT Sécurité
END:VEVENT
BEGIN:VEVENT
DTSTART;VALUE=DATE:20230511
DTEND;VALUE=DATE:20230513
DTSTAMP:20260419T142517
CREATED:20221219T122426Z
LAST-MODIFIED:20221219T122426Z
UID:3664-1683763200-1683935999@www.femps.eu
SUMMARY:PROVA DI SICUREZZA Tignes
DESCRIPTION:
URL:https://www.femps.eu/it/event/prova-di-sicurezza-tignes/
LOCATION:Tignes\, Tignes\, France
CATEGORIES:CTT Sécurité
END:VEVENT
BEGIN:VEVENT
DTSTART;VALUE=DATE:20230427
DTEND;VALUE=DATE:20230429
DTSTAMP:20260419T142517
CREATED:20221219T122449Z
LAST-MODIFIED:20221219T122510Z
UID:3666-1682553600-1682726399@www.femps.eu
SUMMARY:PROVA DI SICUREZZA Tignes
DESCRIPTION:
URL:https://www.femps.eu/it/event/prova-di-sicurezza-2/
LOCATION:Tignes\, Tignes\, France
CATEGORIES:CTT Sécurité
END:VEVENT
BEGIN:VEVENT
DTSTART;VALUE=DATE:20230413
DTEND;VALUE=DATE:20230415
DTSTAMP:20260419T142517
CREATED:20221219T122600Z
LAST-MODIFIED:20221219T122600Z
UID:3670-1681344000-1681516799@www.femps.eu
SUMMARY:PROVA DI SICUREZZA Chamonix
DESCRIPTION:
URL:https://www.femps.eu/it/event/prova-di-sicurezza-chamonix/
LOCATION:Chamonix\, Chamonix\, France
CATEGORIES:CTT Sécurité
END:VEVENT
BEGIN:VEVENT
DTSTART;VALUE=DATE:20230413
DTEND;VALUE=DATE:20230415
DTSTAMP:20260419T142517
CREATED:20221219T122545Z
LAST-MODIFIED:20221219T122545Z
UID:3669-1681344000-1681516799@www.femps.eu
SUMMARY:PROVA DI SICUREZZA Tignes / Val d'Isère
DESCRIPTION:
URL:https://www.femps.eu/it/event/prova-di-sicurezza-tignes-val-disere/
LOCATION:Tignes\, Tignes\, France
CATEGORIES:CTT Sécurité
END:VEVENT
BEGIN:VEVENT
DTSTART;VALUE=DATE:20230330
DTEND;VALUE=DATE:20230401
DTSTAMP:20260419T142517
CREATED:20221219T122731Z
LAST-MODIFIED:20221219T122734Z
UID:3677-1680134400-1680307199@www.femps.eu
SUMMARY:PROVA DI SICUREZZA Chamonix
DESCRIPTION:
URL:https://www.femps.eu/it/event/prova-di-sicurezza-chamonix-2/
LOCATION:Chamonix\, Chamonix\, France
CATEGORIES:CTT Sécurité
END:VEVENT
BEGIN:VEVENT
DTSTART;VALUE=DATE:20230330
DTEND;VALUE=DATE:20230401
DTSTAMP:20260419T142517
CREATED:20221219T122723Z
LAST-MODIFIED:20221219T122725Z
UID:3675-1680134400-1680307199@www.femps.eu
SUMMARY:PROVA DI SICUREZZA Tignes
DESCRIPTION:
URL:https://www.femps.eu/it/event/prova-di-sicurezza-tignes-2/
LOCATION:Tignes\, Tignes\, France
CATEGORIES:CTT Sécurité
END:VEVENT
BEGIN:VEVENT
DTSTART;VALUE=DATE:20230330
DTEND;VALUE=DATE:20230401
DTSTAMP:20260419T142517
CREATED:20221219T122626Z
LAST-MODIFIED:20221219T122626Z
UID:3672-1680134400-1680307199@www.femps.eu
SUMMARY:PROVA DI SICUREZZA Flaine
DESCRIPTION:
URL:https://www.femps.eu/it/event/prova-di-sicurezza-flaine/
LOCATION:Flaine\, Flaine\, France
CATEGORIES:CTT Sécurité
END:VEVENT
BEGIN:VEVENT
DTSTART;VALUE=DATE:20230318
DTEND;VALUE=DATE:20230320
DTSTAMP:20260419T142517
CREATED:20221219T122911Z
LAST-MODIFIED:20221219T122911Z
UID:3683-1679097600-1679270399@www.femps.eu
SUMMARY:Prova di Sicurezza Obersdorf
DESCRIPTION:
URL:https://www.femps.eu/it/event/prova-di-sicurezza-obersdorf/
LOCATION:Oberstdorf\, Oberstdorf\, Allemagne
CATEGORIES:CTT Sécurité
END:VEVENT
BEGIN:VEVENT
DTSTART;VALUE=DATE:20230316
DTEND;VALUE=DATE:20230318
DTSTAMP:20260419T142517
CREATED:20221219T122957Z
LAST-MODIFIED:20221219T123000Z
UID:3689-1678924800-1679097599@www.femps.eu
SUMMARY:PROVA DI SICUREZZA Chamonix
DESCRIPTION:
URL:https://www.femps.eu/it/event/prova-di-sicurezza-chamonix-3/
LOCATION:Chamonix\, Chamonix\, France
CATEGORIES:CTT Sécurité
END:VEVENT
BEGIN:VEVENT
DTSTART;VALUE=DATE:20230316
DTEND;VALUE=DATE:20230318
DTSTAMP:20260419T142517
CREATED:20221219T122946Z
LAST-MODIFIED:20221219T122950Z
UID:3687-1678924800-1679097599@www.femps.eu
SUMMARY:PROVA DI SICUREZZA Tignes
DESCRIPTION:
URL:https://www.femps.eu/it/event/prova-di-sicurezza-tignes-3/
LOCATION:Tignes\, Tignes\, France
CATEGORIES:CTT Sécurité
END:VEVENT
BEGIN:VEVENT
DTSTART;VALUE=DATE:20230316
DTEND;VALUE=DATE:20230318
DTSTAMP:20260419T142517
CREATED:20221219T122935Z
LAST-MODIFIED:20221219T122939Z
UID:3685-1678924800-1679097599@www.femps.eu
SUMMARY:PROVA DI SICUREZZA Flaine
DESCRIPTION:
URL:https://www.femps.eu/it/event/prova-di-sicurezza-flaine-2/
LOCATION:Flaine\, Flaine\, France
CATEGORIES:CTT Sécurité
END:VEVENT
BEGIN:VEVENT
DTSTART;VALUE=DATE:20230209
DTEND;VALUE=DATE:20230211
DTSTAMP:20260419T142517
CREATED:20221219T123050Z
LAST-MODIFIED:20221219T123052Z
UID:3694-1675900800-1676073599@www.femps.eu
SUMMARY:PROVA DI SICUREZZA Chamonix
DESCRIPTION:
URL:https://www.femps.eu/it/event/prova-di-sicurezza-chamonix-4/
LOCATION:Chamonix\, Chamonix\, France
CATEGORIES:CTT Sécurité
END:VEVENT
BEGIN:VEVENT
DTSTART;VALUE=DATE:20230126
DTEND;VALUE=DATE:20230128
DTSTAMP:20260419T142517
CREATED:20221219T123203Z
LAST-MODIFIED:20221219T123205Z
UID:3700-1674691200-1674863999@www.femps.eu
SUMMARY:PROVA DI SICUREZZA Chamonix
DESCRIPTION:
URL:https://www.femps.eu/it/event/prova-di-sicurezza-chamonix-5/
LOCATION:Chamonix\, Chamonix\, France
CATEGORIES:CTT Sécurité
END:VEVENT
BEGIN:VEVENT
DTSTART;VALUE=DATE:20230126
DTEND;VALUE=DATE:20230128
DTSTAMP:20260419T142517
CREATED:20221219T123155Z
LAST-MODIFIED:20221219T123155Z
UID:3699-1674691200-1674863999@www.femps.eu
SUMMARY:CTT Tecnico
DESCRIPTION:
URL:https://www.femps.eu/it/event/ctt-tecnico/
CATEGORIES:CTT Sécurité
END:VEVENT
BEGIN:VEVENT
DTSTART;VALUE=DATE:20230114
DTEND;VALUE=DATE:20230116
DTSTAMP:20260419T142517
CREATED:20221219T123304Z
LAST-MODIFIED:20221219T123304Z
UID:3706-1673654400-1673827199@www.femps.eu
SUMMARY:Prova di Sicurezza St Christoph Am Arlberg
DESCRIPTION:
URL:https://www.femps.eu/it/event/prova-di-sicurezza-st-christoph-am-arlberg/
LOCATION:St Christoph\, St Christoph\, Autriche
CATEGORIES:CTT Sécurité
END:VEVENT
END:VCALENDAR