BEGIN:VCALENDAR
VERSION:2.0
PRODID:-//FEMPS - ECPv6.15.20//NONSGML v1.0//EN
CALSCALE:GREGORIAN
METHOD:PUBLISH
X-ORIGINAL-URL:https://www.femps.eu/it/
X-WR-CALDESC:Eventi per FEMPS
REFRESH-INTERVAL;VALUE=DURATION:PT1H
X-Robots-Tag:noindex
X-PUBLISHED-TTL:PT1H
BEGIN:VTIMEZONE
TZID:UTC
BEGIN:STANDARD
TZOFFSETFROM:+0000
TZOFFSETTO:+0000
TZNAME:UTC
DTSTART:20220101T000000
END:STANDARD
END:VTIMEZONE
BEGIN:VEVENT
DTSTART;VALUE=DATE:20240423
DTEND;VALUE=DATE:20240426
DTSTAMP:20260419T162909
CREATED:20231219T084049Z
LAST-MODIFIED:20231219T084049Z
UID:4434-1713830400-1714089599@www.femps.eu
SUMMARY:CTT Tecnico Val Thorens
DESCRIPTION:
URL:https://www.femps.eu/it/event/ctt-tecnico-val-thorens/
LOCATION:Val Thorens\, Val Thorens\, 73440\, France
CATEGORIES:CTT Technique
END:VEVENT
BEGIN:VEVENT
DTSTART;VALUE=DATE:20240325
DTEND;VALUE=DATE:20240329
DTSTAMP:20260419T162909
CREATED:20231219T084914Z
LAST-MODIFIED:20231219T084914Z
UID:4441-1711324800-1711670399@www.femps.eu
SUMMARY:CTT Technique Alpe d'Huez
DESCRIPTION:
URL:https://www.femps.eu/it/event/ctt-technique-alpe-dhuez/
LOCATION:Alpe d’Huez\, Alpe d'Huez\, France
CATEGORIES:CTT Technique
END:VEVENT
BEGIN:VEVENT
DTSTART;VALUE=DATE:20240321
DTEND;VALUE=DATE:20240323
DTSTAMP:20260419T162909
CREATED:20231219T085055Z
LAST-MODIFIED:20231219T085055Z
UID:4447-1710979200-1711151999@www.femps.eu
SUMMARY:CTT Tecnico Hinterreit / Maria Alm
DESCRIPTION:
URL:https://www.femps.eu/it/event/ctt-tecnico-hinterreit-maria-alm-2/
LOCATION:Hinterreit / Maria Alm\, Hinterreit\, Autriche
CATEGORIES:CTT Technique
END:VEVENT
BEGIN:VEVENT
DTSTART;VALUE=DATE:20240320
DTEND;VALUE=DATE:20240323
DTSTAMP:20260419T162909
CREATED:20231219T085115Z
LAST-MODIFIED:20231219T085115Z
UID:4448-1710892800-1711151999@www.femps.eu
SUMMARY:CTT Tecnico Auron
DESCRIPTION:
URL:https://www.femps.eu/it/event/ctt-tecnico-auron-2/
LOCATION:Auron\, Auron\, France
CATEGORIES:CTT Technique
END:VEVENT
BEGIN:VEVENT
DTSTART;VALUE=DATE:20240318
DTEND;VALUE=DATE:20240320
DTSTAMP:20260419T162909
CREATED:20231219T085156Z
LAST-MODIFIED:20231219T085156Z
UID:4451-1710720000-1710892799@www.femps.eu
SUMMARY:CTT Tecnico Superbagnères
DESCRIPTION:
URL:https://www.femps.eu/it/event/ctt-tecnico-superbagneres-3/
LOCATION:Superbagneres\, Superbagneres\, France
CATEGORIES:CTT Technique
END:VEVENT
BEGIN:VEVENT
DTSTART;VALUE=DATE:20240318
DTEND;VALUE=DATE:20240321
DTSTAMP:20260419T162909
CREATED:20231219T085132Z
LAST-MODIFIED:20231219T085137Z
UID:4449-1710720000-1710979199@www.femps.eu
SUMMARY:CTT tecnico San Candido
DESCRIPTION:
URL:https://www.femps.eu/it/event/ctt-technico-san-candido/
LOCATION:San Candido\, San Candido\, Italie
CATEGORIES:CTT Technique
END:VEVENT
BEGIN:VEVENT
DTSTART;VALUE=DATE:20240311
DTEND;VALUE=DATE:20240314
DTSTAMP:20260419T162909
CREATED:20231219T085302Z
LAST-MODIFIED:20231219T085302Z
UID:4453-1710115200-1710374399@www.femps.eu
SUMMARY:CTT tecnico Roccaraso
DESCRIPTION:
URL:https://www.femps.eu/it/event/ctt-tecnico-roccaraso/
LOCATION:Roccaraso\, Roccaraso\, Italie
CATEGORIES:CTT Technique
END:VEVENT
BEGIN:VEVENT
DTSTART;VALUE=DATE:20240310
DTEND;VALUE=DATE:20240312
DTSTAMP:20260419T162909
CREATED:20231219T085325Z
LAST-MODIFIED:20231219T085325Z
UID:4454-1710028800-1710201599@www.femps.eu
SUMMARY:CTT tecnico Oberstdorf
DESCRIPTION:
URL:https://www.femps.eu/it/event/ctt-tecnico-oberstdorf/
LOCATION:Oberstdorf\, Oberstdorf\, Allemagne
CATEGORIES:CTT Technique
END:VEVENT
BEGIN:VEVENT
DTSTART;VALUE=DATE:20240305
DTEND;VALUE=DATE:20240307
DTSTAMP:20260419T162909
CREATED:20231219T085340Z
LAST-MODIFIED:20231219T085340Z
UID:4455-1709596800-1709769599@www.femps.eu
SUMMARY:CTT tecnico Passo Del Lupo / Cimone
DESCRIPTION:
URL:https://www.femps.eu/it/event/ctt-tecnico-passo-del-lupo-cimone/
LOCATION:Passo Del Lupo\, Sestola\, Modene\, 41029\, Italie
CATEGORIES:CTT Technique
END:VEVENT
BEGIN:VEVENT
DTSTART;VALUE=DATE:20240213
DTEND;VALUE=DATE:20240215
DTSTAMP:20260419T162909
CREATED:20231219T085419Z
LAST-MODIFIED:20231219T085419Z
UID:4457-1707782400-1707955199@www.femps.eu
SUMMARY:CTT tecnico Kope
DESCRIPTION:
URL:https://www.femps.eu/it/event/ctt-tecnico-kope/
LOCATION:Kope\, Kope\, Slovénie
CATEGORIES:CTT Technique
END:VEVENT
BEGIN:VEVENT
DTSTART;VALUE=DATE:20240206
DTEND;VALUE=DATE:20240208
DTSTAMP:20260419T162909
CREATED:20231219T085456Z
LAST-MODIFIED:20231219T085456Z
UID:4458-1707177600-1707350399@www.femps.eu
SUMMARY:CTT tecnico Temu
DESCRIPTION:
URL:https://www.femps.eu/it/event/ctt-tecnico-temu-2/
LOCATION:Temu\, Temu\, Italie
CATEGORIES:CTT Technique
END:VEVENT
BEGIN:VEVENT
DTSTART;VALUE=DATE:20240131
DTEND;VALUE=DATE:20240203
DTSTAMP:20260419T162909
CREATED:20231219T085530Z
LAST-MODIFIED:20231219T085530Z
UID:4461-1706659200-1706918399@www.femps.eu
SUMMARY:CTT Tecnico Serre Chevalier
DESCRIPTION:
URL:https://www.femps.eu/it/event/ctt-tecnico-serre-chevalier-2/
LOCATION:Serre Chevalier\, Serre Chevalier\, France
CATEGORIES:CTT Technique
END:VEVENT
BEGIN:VEVENT
DTSTART;VALUE=DATE:20240129
DTEND;VALUE=DATE:20240131
DTSTAMP:20260419T162909
CREATED:20231219T085624Z
LAST-MODIFIED:20231219T085624Z
UID:4462-1706486400-1706659199@www.femps.eu
SUMMARY:CTT Tecnico Superbagnères
DESCRIPTION:
URL:https://www.femps.eu/it/event/ctt-tecnico-superbagneres-4/
LOCATION:Superbagneres\, Superbagneres\, France
CATEGORIES:CTT Technique
END:VEVENT
BEGIN:VEVENT
DTSTART;VALUE=DATE:20240125
DTEND;VALUE=DATE:20240128
DTSTAMP:20260419T162909
CREATED:20231219T085624Z
LAST-MODIFIED:20231219T085624Z
UID:4463-1706140800-1706399999@www.femps.eu
SUMMARY:CTT Tecnico Les Ménuires
DESCRIPTION:
URL:https://www.femps.eu/it/event/ctt-tecnico-les-menuires-2/
LOCATION:Les Ménuires\, Les Ménuires\, France
CATEGORIES:CTT Technique
END:VEVENT
BEGIN:VEVENT
DTSTART;VALUE=DATE:20240122
DTEND;VALUE=DATE:20240125
DTSTAMP:20260419T162909
CREATED:20231219T085625Z
LAST-MODIFIED:20231219T085625Z
UID:4464-1705881600-1706140799@www.femps.eu
SUMMARY:CTT Tecnico Morzine
DESCRIPTION:
URL:https://www.femps.eu/it/event/ctt-tecnico-morzine-2/
LOCATION:Morzine\, Morzine\, 74110\, France
CATEGORIES:CTT Technique
END:VEVENT
BEGIN:VEVENT
DTSTART;VALUE=DATE:20240116
DTEND;VALUE=DATE:20240118
DTSTAMP:20260419T162909
CREATED:20231219T085810Z
LAST-MODIFIED:20231219T085810Z
UID:4468-1705363200-1705535999@www.femps.eu
SUMMARY:CTT tecnico Limone Piemonte
DESCRIPTION:
URL:https://www.femps.eu/it/event/ctt-tecnico-limone-piemonte/
LOCATION:Limone Piemonte\, Limone Piemonte\, Coni\, 12015\, Italie
CATEGORIES:CTT Technique
END:VEVENT
BEGIN:VEVENT
DTSTART;VALUE=DATE:20231218
DTEND;VALUE=DATE:20231221
DTSTAMP:20260419T162909
CREATED:20231219T085811Z
LAST-MODIFIED:20231219T085811Z
UID:4470-1702857600-1703116799@www.femps.eu
SUMMARY:CTT Tecnico Alpe d'Huez
DESCRIPTION:
URL:https://www.femps.eu/it/event/ctt-tecnico-alpe-dhuez-3/
LOCATION:Alpe d’Huez\, Alpe d'Huez\, France
CATEGORIES:CTT Technique
END:VEVENT
BEGIN:VEVENT
DTSTART;VALUE=DATE:20231213
DTEND;VALUE=DATE:20231215
DTSTAMP:20260419T162909
CREATED:20231219T085809Z
LAST-MODIFIED:20231219T085809Z
UID:4465-1702425600-1702598399@www.femps.eu
SUMMARY:CTT Tecnico Cotrina d'Ampezzo
DESCRIPTION:
URL:https://www.femps.eu/it/event/ctt-tecnico-cotrina-dampezzo/
LOCATION:Cortina d’Ampezzo\, Belluno\, 32043\, Italie
CATEGORIES:CTT Technique
END:VEVENT
BEGIN:VEVENT
DTSTART;VALUE=DATE:20230424
DTEND;VALUE=DATE:20230427
DTSTAMP:20260419T162909
CREATED:20221219T122531Z
LAST-MODIFIED:20221219T122652Z
UID:3668-1682294400-1682553599@www.femps.eu
SUMMARY:CTT Tecnico Val Thorens
DESCRIPTION:
URL:https://www.femps.eu/it/event/prova-di-sicurezza-val-thorens/
LOCATION:Val Thorens\, Val Thorens\, 73440\, France
CATEGORIES:CTT Technique
END:VEVENT
BEGIN:VEVENT
DTSTART;VALUE=DATE:20230404
DTEND;VALUE=DATE:20230406
DTSTAMP:20260419T162909
CREATED:20221219T122612Z
LAST-MODIFIED:20221219T122710Z
UID:3671-1680566400-1680739199@www.femps.eu
SUMMARY:CTT Tecnico Sestola
DESCRIPTION:
URL:https://www.femps.eu/it/event/prova-di-sicurezza-sestola/
LOCATION:Sestola\, Sestola\, 41029\, Italie
CATEGORIES:CTT Technique
END:VEVENT
BEGIN:VEVENT
DTSTART;VALUE=DATE:20230327
DTEND;VALUE=DATE:20230330
DTSTAMP:20260419T162909
CREATED:20221219T122755Z
LAST-MODIFIED:20221219T122755Z
UID:3679-1679875200-1680134399@www.femps.eu
SUMMARY:CTT tecnico Alpe d'Huez
DESCRIPTION:
URL:https://www.femps.eu/it/event/ctt-tecnico-alpe-dhuez/
LOCATION:Alpe d’Huez\, Alpe d'Huez\, France
CATEGORIES:CTT Technique
END:VEVENT
BEGIN:VEVENT
DTSTART;VALUE=DATE:20230323
DTEND;VALUE=DATE:20230325
DTSTAMP:20260419T162909
CREATED:20221219T122811Z
LAST-MODIFIED:20221219T122811Z
UID:3680-1679529600-1679702399@www.femps.eu
SUMMARY:CTT tecnico Superbagneres
DESCRIPTION:
URL:https://www.femps.eu/it/event/ctt-tecnico-superbagneres/
LOCATION:Superbagneres\, Superbagneres\, France
CATEGORIES:CTT Technique
END:VEVENT
BEGIN:VEVENT
DTSTART;VALUE=DATE:20230321
DTEND;VALUE=DATE:20230322
DTSTAMP:20260419T162909
CREATED:20221219T122830Z
LAST-MODIFIED:20221219T122830Z
UID:3681-1679356800-1679443199@www.femps.eu
SUMMARY:CTT tecnico Carezza
DESCRIPTION:
URL:https://www.femps.eu/it/event/ctt-tecnico-carezza/
LOCATION:Carezza\, Carezza\, Italie
CATEGORIES:CTT Technique
END:VEVENT
BEGIN:VEVENT
DTSTART;VALUE=DATE:20230320
DTEND;VALUE=DATE:20230323
DTSTAMP:20260419T162909
CREATED:20221219T122845Z
LAST-MODIFIED:20221219T122845Z
UID:3682-1679270400-1679529599@www.femps.eu
SUMMARY:CTT tecnico Auron
DESCRIPTION:
URL:https://www.femps.eu/it/event/ctt-tecnico-auron/
LOCATION:Auron\, Auron\, France
CATEGORIES:CTT Technique
END:VEVENT
BEGIN:VEVENT
DTSTART;VALUE=DATE:20230317
DTEND;VALUE=DATE:20230319
DTSTAMP:20260419T162909
CREATED:20221219T122927Z
LAST-MODIFIED:20221219T122927Z
UID:3684-1679011200-1679183999@www.femps.eu
SUMMARY:CTT tecnico Hinterreit / Maria Alm
DESCRIPTION:
URL:https://www.femps.eu/it/event/ctt-tecnico-hinterreit-maria-alm/
LOCATION:Hinterreit / Maria Alm\, Hinterreit\, Autriche
CATEGORIES:CTT Technique
END:VEVENT
BEGIN:VEVENT
DTSTART;VALUE=DATE:20230309
DTEND;VALUE=DATE:20230311
DTSTAMP:20260419T162909
CREATED:20221219T123015Z
LAST-MODIFIED:20221219T123015Z
UID:3691-1678320000-1678492799@www.femps.eu
SUMMARY:CTT tecnico Piancavallo
DESCRIPTION:
URL:https://www.femps.eu/it/event/ctt-tecnico-piancavallo/
LOCATION:Piancavallo\, Piancavallo\, 33081\, Italie
CATEGORIES:CTT Technique
END:VEVENT
BEGIN:VEVENT
DTSTART;VALUE=DATE:20230214
DTEND;VALUE=DATE:20230215
DTSTAMP:20260419T162909
CREATED:20221219T123043Z
LAST-MODIFIED:20221219T123043Z
UID:3693-1676332800-1676419199@www.femps.eu
SUMMARY:CTT tecnico Temu
DESCRIPTION:
URL:https://www.femps.eu/it/event/ctt-tecnico-temu/
LOCATION:Temu\, Temu\, Italie
CATEGORIES:CTT Technique
END:VEVENT
BEGIN:VEVENT
DTSTART;VALUE=DATE:20230214
DTEND;VALUE=DATE:20230216
DTSTAMP:20260419T162909
CREATED:20221219T123030Z
LAST-MODIFIED:20221219T123030Z
UID:3692-1676332800-1676505599@www.femps.eu
SUMMARY:CTT tecnico Kranjska Gora
DESCRIPTION:
URL:https://www.femps.eu/it/event/ctt-tecnico-kranjska-gora/
LOCATION:Kranjska Gora\, Kranjska Gora\, Slovénie
CATEGORIES:CTT Technique
END:VEVENT
BEGIN:VEVENT
DTSTART;TZID=UTC:20230202T000000
DTEND;TZID=UTC:20230202T000000
DTSTAMP:20260419T162909
CREATED:20221219T123123Z
LAST-MODIFIED:20221219T123123Z
UID:3697-1675296000-1675296000@www.femps.eu
SUMMARY:CTT tecnico Lenggries
DESCRIPTION:
URL:https://www.femps.eu/it/event/ctt-tecnico-lenggries/
LOCATION:Lenggries\, Lenggries\, 83661\, Allemagne
CATEGORIES:CTT Technique
END:VEVENT
BEGIN:VEVENT
DTSTART;VALUE=DATE:20230202
DTEND;VALUE=DATE:20230205
DTSTAMP:20260419T162909
CREATED:20221219T123107Z
LAST-MODIFIED:20221219T123107Z
UID:3696-1675296000-1675555199@www.femps.eu
SUMMARY:CTT tecnico Morzine
DESCRIPTION:
URL:https://www.femps.eu/it/event/ctt-tecnico-morzine/
LOCATION:Morzine\, Morzine\, 74110\, France
CATEGORIES:CTT Technique
END:VEVENT
END:VCALENDAR